BEGIN:VCALENDAR
VERSION:2.0
PRODID:-//AMSE//Event Calendar//FR
CALSCALE:GREGORIAN
METHOD:PUBLISH
BEGIN:VEVENT
UID:event-12295@www.amse-aixmarseille.fr
DTSTAMP:20260421T153655Z
CREATED:20260421T153655Z
LAST-MODIFIED:20260421T153655Z
STATUS:CONFIRMED
SEQUENCE:0
SUMMARY:conférences/workshops - Workshop on Recent Advances in Optimizatio
 n\, Utility and Fluctuations (RAOUF)
DTSTART:20250911T080000Z
DTEND:20250912T140000Z
DESCRIPTION:\\n\\nContact: Giorgio Fabbri: giorgio.fabbri[at]univ-grenoble
 -alpes.frPaolo Melindi-Ghidi: paolo.melindi-ghidi[at]univ-amu.frFabien Pri
 eur: fabien.prieur[at]umontpellier.frThomas Seegmuller: thomas.seegmuller[
 at]univ-amu.fr\n\nPlus d'informations: https://www.amse-aixmarseille.fr/en/
 events/workshop-recent-advances-optimization-utility-and-fluctuations-raouf
 -0
URL;VALUE=URI:https://www.amse-aixmarseille.fr/en/events/workshop-recent-advances-optimization-utility-and-fluctuations-raouf-0
CONTACT:Giorgio Fabbri:&nbsp\;giorgio.fabbri[at]univ-grenoble-alpes.frPaolo
  Melindi-Ghidi:&nbsp\;paolo.melindi-ghidi[at]univ-amu.frFabien Prieur:&nbsp
 \;fabien.prieur[at]umontpellier.frThomas Seegmuller: thomas.seegmuller[at]u
 niv-amu.fr
TRANSP:OPAQUE
END:VEVENT
END:VCALENDAR
