BEGIN:VCALENDAR
VERSION:2.0
PRODID:-//AMSE//Event Calendar//FR
CALSCALE:GREGORIAN
METHOD:PUBLISH
BEGIN:VEVENT
UID:event-12301@www.amse-aixmarseille.fr
DTSTAMP:20260421T153716Z
CREATED:20260421T153716Z
LAST-MODIFIED:20260421T153716Z
STATUS:CONFIRMED
SEQUENCE:0
SUMMARY:enseignement - 2025 Career Day
DTSTART:20251128T080000Z
DTEND:20251128T160000Z
DESCRIPTION:\\n\\nContact: infoecole[at]amse-aixmarseille.fr\n\nPlus d'info
 rmations: https://www.amse-aixmarseille.fr/en/events/2025-career-day
URL;VALUE=URI:https://www.amse-aixmarseille.fr/en/events/2025-career-day
CONTACT:infoecole[at]amse-aixmarseille.fr
TRANSP:OPAQUE
END:VEVENT
END:VCALENDAR
