BEGIN:VCALENDAR
VERSION:2.0
PRODID:-//AMSE//Event Calendar//FR
CALSCALE:GREGORIAN
METHOD:PUBLISH
BEGIN:VEVENT
UID:event-12376@www.amse-aixmarseille.fr
DTSTAMP:20260421T110510Z
CREATED:20260421T110510Z
LAST-MODIFIED:20260421T110510Z
STATUS:CONFIRMED
SEQUENCE:0
SUMMARY:amse seminar - Pierre-Guillaume MÃ©on
DTSTART:20251006T093000Z
DTEND:20251006T104500Z
DESCRIPTION:How does the nature of social media content shape the diffusion
  of protest? This paper provides causal evidence from the 2023 Nahel riots 
 in France\, a nationwide wave of unrest triggered by a police killing and p
 ropelled by online mobilization. Using data on 537 protest events and more 
 than 50\,000 geolocated Instagram interactions\, we construct a municipalit
 y-by-day panel of social media exposure. Our identification strategy levera
 ges exogenous variation in pre-riot Instagram connectivityâ€”measured via r
 esidualized comment flows on a network seeded on football celebritiesâ€™ po
 stsâ€”to isolate the diffusion of protest through online ties. We find that
  digital exposure to protest in connected municipalities significantly incr
 eases the probability of local protest\, with effects concentrated the foll
 owing day. Beyond volume\, we show that protest diffusion is content-depend
 ent. Pro-movement\, emotionally salient\, and visually prominent posts are 
 particularly effective at promoting both online engagement and offline acti
 on\, while exposure to fear-inducing or repressive imagery discourages prot
 est despite increasing attention. Posts with coordination cues (explicit ca
 lls to action or protest logistics) have the strongest mobilizing effects. 
 Our findings show that image-based social media accelerate protest diffusio
 n not only by lowering coordination barriers but also by amplifying emotion
 al cues. They reveal how emotional tone\, political alignment\, and visual 
 structure jointly condition the spread of digital protest.\\n\\nContact: SÃ
 ©gal Le Guern Herry:Â segal.le-guern-herry[at]univ-amu.frMorgan Raux:Â morg
 an.raux[at]univ-amu.fr\n\nPlus d'informations: https://www.amse-aixmarseill
 e.fr/en/events/pierre-guillaume-m%C3%A9on-0
LOCATION:ÃŽlot Bernard du Bois - AmphithÃ©Ã¢tre\, AMU - AMSE\, 5-9 boulevar
 d Maurice Bourdet\, 13001 Marseille
URL;VALUE=URI:https://www.amse-aixmarseille.fr/en/events/pierre-guillaume-m%C3%A9on-0
CONTACT:SÃ©gal Le Guern Herry:&nbsp\;segal.le-guern-herry[at]univ-amu.frMor
 gan Raux:&nbsp\;morgan.raux[at]univ-amu.fr
TRANSP:OPAQUE
END:VEVENT
END:VCALENDAR
