BEGIN:VCALENDAR
VERSION:2.0
PRODID:-//AMSE//Event Calendar//FR
CALSCALE:GREGORIAN
METHOD:PUBLISH
BEGIN:VEVENT
UID:event-12380@www.amse-aixmarseille.fr
DTSTAMP:20260421T122134Z
CREATED:20260421T122134Z
LAST-MODIFIED:20260421T122134Z
STATUS:CONFIRMED
SEQUENCE:0
SUMMARY:amse seminar - Jeanne Hagenbach
DTSTART:20251117T103000Z
DTEND:20251117T114500Z
DESCRIPTION:Many economic and policy decisions require balancing the well-b
 eing of individuals living today against that of individuals in the future.
  While behavioral economics has extensively documented that people discount
  future outcomes\, we argue that such intertemporal trade-offs also carry
  an important social dimension. We design a laboratory experiment to examin
 e altruism toward others whose participation or payment occurs in the futur
 e\, and we measure perceived social distance to these individuals. Our resu
 lts show that participants are more generous toward\, and feel socially clo
 ser to\, individuals who are present and paid today compared to those whose
  participation and payment is delayed by 6\, 12\, or 24 months. The negativ
 e effect of a later payment date is stronger than that of a later participa
 tion date\, but both are significant and cumulative. \\n\\nContact: Ségal
  Le Guern Herry: segal.le-guern-herry[at]univ-amu.frMorgan Raux: morgan.r
 aux[at]univ-amu.fr\n\nPlus d'informations: https://www.amse-aixmarseille.fr
 /en/events/jeanne-hagenbach-0
LOCATION:Îlot Bernard du Bois - Amphithéâtre\, AMU - AMSE\, 5-9 boulevar
 d Maurice Bourdet\, 13001 Marseille
URL;VALUE=URI:https://www.amse-aixmarseille.fr/en/events/jeanne-hagenbach-0
CONTACT:Ségal Le Guern Herry:&nbsp\;segal.le-guern-herry[at]univ-amu.frMor
 gan Raux:&nbsp\;morgan.raux[at]univ-amu.fr
TRANSP:OPAQUE
END:VEVENT
END:VCALENDAR
