BEGIN:VCALENDAR
VERSION:2.0
PRODID:-//AMSE//Event Calendar//FR
CALSCALE:GREGORIAN
METHOD:PUBLISH
BEGIN:VEVENT
UID:event-12384@www.amse-aixmarseille.fr
DTSTAMP:20260421T171716Z
CREATED:20260421T171716Z
LAST-MODIFIED:20260421T171716Z
STATUS:CONFIRMED
SEQUENCE:0
SUMMARY:amse seminar - Alexandra Roulet
DTSTART:20251201T103000Z
DTEND:20251201T114500Z
DESCRIPTION:Non-cognitive skills are increasingly rewarded in labor markets
  and employers often mention lack of suitable soft skills as a reason for u
 nfilled vacancies. We investigate whether there is a role for public employ
 ment services (PES) to intervene to make job seekers’ soft skills more in
  line with employers’ expectations. In particular\, we evaluate\, through
  a large-scale RCT\, a two-week soft skills training program for French job
  seekers and show that the training improves the relevant skills and enhanc
 es job seekers’ outcomes\, in terms of type of contract\, earnings and li
 kelihood to enroll in further training. The training pays for itself for jo
 b seekers of more than 50 years old. Our findings highlight the potential o
 f soft skills training in improving job match quality.\\n\\nContact: Ségal
  Le Guern Herry: segal.le-guern-herry[at]univ-amu.frMorgan Raux: morgan.r
 aux[at]univ-amu.fr\n\nPlus d'informations: https://www.amse-aixmarseille.fr
 /en/events/alexandra-roulet-1
LOCATION:Îlot Bernard du Bois - Amphithéâtre\, AMU - AMSE\, 5-9 boulevar
 d Maurice Bourdet\, 13001 Marseille
URL;VALUE=URI:https://www.amse-aixmarseille.fr/en/events/alexandra-roulet-1
CONTACT:Ségal Le Guern Herry:&nbsp\;segal.le-guern-herry[at]univ-amu.frMor
 gan Raux:&nbsp\;morgan.raux[at]univ-amu.fr
TRANSP:OPAQUE
END:VEVENT
END:VCALENDAR
