BEGIN:VCALENDAR
VERSION:2.0
PRODID:-//AMSE//Event Calendar//FR
CALSCALE:GREGORIAN
METHOD:PUBLISH
BEGIN:VEVENT
UID:event-12388@www.amse-aixmarseille.fr
DTSTAMP:20260421T184156Z
CREATED:20260421T184156Z
LAST-MODIFIED:20260421T184156Z
STATUS:CONFIRMED
SEQUENCE:0
SUMMARY:amse seminar - Elio Nimier-David
DTSTART:20251215T103000Z
DTEND:20251215T114500Z
DESCRIPTION:Why are wages in cities like New York or Paris higher than in o
 thers? This paper uses establishment mobility to separate the role of “l
 ocation effects” (e.g.\, geography\, infrastructure\, agglomeration) fro
 m the spatial sorting of workers and firms. Using French administrative re
 cords and U.S. commercial data\, we document that 4% of establishments rel
 ocate annually. Establishments retain their main activity and structure as 
 they move\, but adjust their workforce and wages. Combining establishment 
 and worker mobility\, we decompose wage disparities across French commutin
 g zones. We find that spatial wage differences are driven primarily by the
 sorting and co-location of workers and firms: location effects explain onl
 y 2–4% of disparities\, while differences in worker and establishment co
 mposition account for 30% and 17%\, respectively. The remaining half refle
 cts the co-location of high-wage workers and establishments\, especially i
 n high-wage cities. Revisiting the elasticity of local wages to population
  density\, we find a significant coefficient of 0.007—two to three times
  lower than estimates that omit establishment composition.\\n\\nContact: S
 gal Le Guern Herry: segal.le-guern-herry[at]univ-amu.frMorgan Raux: morg
 an.raux[at]univ-amu.fr\n\nPlus d'informations: https://www.amse-aixmarseill
 e.fr/en/events/elio-nimier-david-0
LOCATION:Îlot Bernard du Bois - Amphithéâtre\, AMU - AMSE\, 5-9 boulevar
 d Maurice Bourdet\, 13001 Marseille
URL;VALUE=URI:https://www.amse-aixmarseille.fr/en/events/elio-nimier-david-0
CONTACT:Ségal Le Guern Herry:&nbsp\;segal.le-guern-herry[at]univ-amu.frMor
 gan Raux:&nbsp\;morgan.raux[at]univ-amu.fr
TRANSP:OPAQUE
END:VEVENT
END:VCALENDAR
