BEGIN:VCALENDAR
VERSION:2.0
PRODID:-//AMSE//Event Calendar//FR
CALSCALE:GREGORIAN
METHOD:PUBLISH
BEGIN:VEVENT
UID:event-12438@www.amse-aixmarseille.fr
DTSTAMP:20260421T152654Z
CREATED:20260421T152654Z
LAST-MODIFIED:20260421T152654Z
STATUS:CONFIRMED
SEQUENCE:0
SUMMARY:finance seminar - Gunther Capelle-Blancard
DTSTART:20251125T093000Z
DTEND:20251125T110000Z
DESCRIPTION:\\n\\nContact: Eric Girardin: eric.girardin[at]univ-amu.frGaël
  Leboeuf: gael.leboeuf[at]univ-amu.frChristelle Lecourt: christelle.lecourt
 [at]univ-amu.fr\n\nPlus d'informations: https://www.amse-aixmarseille.fr/en
 /events/gunther-capelle-blancard-0
LOCATION:MEGA
URL;VALUE=URI:https://www.amse-aixmarseille.fr/en/events/gunther-capelle-blancard-0
CONTACT:Eric Girardin: eric.girardin[at]univ-amu.frGaël Leboeuf: gael.lebo
 euf[at]univ-amu.frChristelle Lecourt: christelle.lecourt[at]univ-amu.fr
TRANSP:OPAQUE
END:VEVENT
END:VCALENDAR
