BEGIN:VCALENDAR
VERSION:2.0
PRODID:-//AMSE//Event Calendar//FR
CALSCALE:GREGORIAN
METHOD:PUBLISH
BEGIN:VEVENT
UID:event-12611@www.amse-aixmarseille.fr
DTSTAMP:20260421T135035Z
CREATED:20260421T135035Z
LAST-MODIFIED:20260421T135035Z
STATUS:CONFIRMED
SEQUENCE:0
SUMMARY:enseignement - Conférence « Les femmes investissent-elles vraimen
 t moins que les hommes ? Mythe ou réalité ? »
DTSTART:20251124T170000Z
DTEND:20251124T183000Z
DESCRIPTION:\\n\\nContact: infoecole[at]amse-aixmarseille.fr\n\nPlus d'info
 rmations: https://www.amse-aixmarseille.fr/en/events/conf%C3%A9rence-%C2%AB
 -les-femmes-investissent-elles-vraiment-moins-que-les-hommes-mythe-ou-r%C3%
 A9alit%C3%A9-%C2%BB-0
LOCATION:Éco-campus La Pauliane - Amphi 2\, Faculté d'Économie et de Ges
 tion \, 424\, Chemin du Viaduc\, 13080 Aix-en-Provence
URL;VALUE=URI:https://www.amse-aixmarseille.fr/en/events/conf%C3%A9rence-%C2%AB-les-femmes-investissent-elles-vraiment-moins-que-les-hommes-mythe-ou-r%C3%A9alit%C3%A9-%C2%BB-0
CONTACT:infoecole[at]amse-aixmarseille.fr
TRANSP:OPAQUE
END:VEVENT
END:VCALENDAR
