BEGIN:VCALENDAR
VERSION:2.0
PRODID:-//AMSE//Event Calendar//FR
CALSCALE:GREGORIAN
METHOD:PUBLISH
BEGIN:VEVENT
UID:event-12637@www.amse-aixmarseille.fr
DTSTAMP:20260421T135036Z
CREATED:20260421T135036Z
LAST-MODIFIED:20260421T135036Z
STATUS:CONFIRMED
SEQUENCE:0
SUMMARY:Practice job talks - Wenqi Lu
DTSTART:20251120T090000Z
DTEND:20251120T100000Z
DESCRIPTION:\\n\\nContact: Timothée Demont: timothee.demont[at]univ-amu.fr
 Paolo Melindi-Ghidi: paolo.melindi-ghidi[at]univ-amu.fr\n\nPlus d'informat
 ions: https://www.amse-aixmarseille.fr/en/events/wenqi-lu-0
LOCATION:MEGA - Salle Carine Nourry\, 424\, Chemin du Viaduc\, 13080 Aix-en
 -Provence
URL;VALUE=URI:https://www.amse-aixmarseille.fr/en/events/wenqi-lu-0
CONTACT:Timothée Demont: timothee.demont[at]univ-amu.frPaolo Melindi-Ghidi
 :&nbsp\;paolo.melindi-ghidi[at]univ-amu.fr
TRANSP:OPAQUE
END:VEVENT
END:VCALENDAR
