BEGIN:VCALENDAR
VERSION:2.0
PRODID:-//AMSE//Event Calendar//FR
CALSCALE:GREGORIAN
METHOD:PUBLISH
BEGIN:VEVENT
UID:event-12641@www.amse-aixmarseille.fr
DTSTAMP:20260421T151627Z
CREATED:20260421T151627Z
LAST-MODIFIED:20260421T151627Z
STATUS:CONFIRMED
SEQUENCE:0
SUMMARY:Practice job talks - Arnaud Deseau
DTSTART:20251126T090000Z
DTEND:20251126T100000Z
DESCRIPTION:\\n\\nContact: Timothée Demont: timothee.demont[at]univ-amu.fr
 Paolo Melindi-Ghidi: paolo.melindi-ghidi[at]univ-amu.fr\n\nPlus d'informat
 ions: https://www.amse-aixmarseille.fr/en/events/arnaud-deseau-4
LOCATION:Îlot Bernard du Bois - Salle 16\, AMU - AMSE\, 5-9 boulevard Maur
 ice Bourdet\, 13001 Marseille
URL;VALUE=URI:https://www.amse-aixmarseille.fr/en/events/arnaud-deseau-4
CONTACT:Timothée Demont: timothee.demont[at]univ-amu.frPaolo Melindi-Ghidi
 :&nbsp\;paolo.melindi-ghidi[at]univ-amu.fr
TRANSP:OPAQUE
END:VEVENT
END:VCALENDAR
