BEGIN:VCALENDAR
VERSION:2.0
PRODID:-//AMSE//Event Calendar//FR
CALSCALE:GREGORIAN
METHOD:PUBLISH
BEGIN:VEVENT
UID:event-12643@www.amse-aixmarseille.fr
DTSTAMP:20260421T153715Z
CREATED:20260421T153715Z
LAST-MODIFIED:20260421T153715Z
STATUS:CONFIRMED
SEQUENCE:0
SUMMARY:Practice job talks - Aisha Salih
DTSTART:20251127T090000Z
DTEND:20251127T100000Z
DESCRIPTION:\\n\\nContact: Timothée Demont: timothee.demont[at]univ-amu.fr
 Paolo Melindi-Ghidi: paolo.melindi-ghidi[at]univ-amu.fr\n\nPlus d'informat
 ions: https://www.amse-aixmarseille.fr/en/events/aisha-salih-0
LOCATION:MEGA - Salle Carine Nourry\, 424\, Chemin du Viaduc\, 13080 Aix-en
 -Provence
URL;VALUE=URI:https://www.amse-aixmarseille.fr/en/events/aisha-salih-0
CONTACT:Timothée Demont: timothee.demont[at]univ-amu.frPaolo Melindi-Ghidi
 :&nbsp\;paolo.melindi-ghidi[at]univ-amu.fr
TRANSP:OPAQUE
END:VEVENT
END:VCALENDAR
