BEGIN:VCALENDAR
VERSION:2.0
PRODID:-//AMSE//Event Calendar//FR
CALSCALE:GREGORIAN
METHOD:PUBLISH
BEGIN:VEVENT
UID:event-12693@www.amse-aixmarseille.fr
DTSTAMP:20260421T182955Z
CREATED:20260421T182955Z
LAST-MODIFIED:20260421T182955Z
STATUS:CONFIRMED
SEQUENCE:0
SUMMARY:French-Japanese webinar - Satoshi Koibuchi
DTSTART:20251121T090000Z
DTEND:20251121T100000Z
DESCRIPTION:\\n\\nContact: Gilles Dufrénot: gilles.dufrenot[at]sciencespo-
 aix.frKiyotaka Sato: sato[at]ynu.ac.jp\n\nPlus d'informations: https://www.
 amse-aixmarseille.fr/en/events/satoshi-koibuchi-0
URL;VALUE=URI:https://www.amse-aixmarseille.fr/en/events/satoshi-koibuchi-0
CONTACT:Gilles Dufrénot: gilles.dufrenot[at]sciencespo-aix.frKiyotaka Sato
 : sato[at]ynu.ac.jp
TRANSP:OPAQUE
END:VEVENT
END:VCALENDAR
