BEGIN:VCALENDAR
VERSION:2.0
PRODID:-//AMSE//Event Calendar//FR
CALSCALE:GREGORIAN
METHOD:PUBLISH
BEGIN:VEVENT
UID:event-12714@www.amse-aixmarseille.fr
DTSTAMP:20260422T013130Z
CREATED:20260422T013130Z
LAST-MODIFIED:20260422T013130Z
STATUS:CONFIRMED
SEQUENCE:0
SUMMARY:conférences/workshops - 5th Annual Workshop ARAE Econometrics for 
 Sustainable Finance
DTSTART:20251205T130000Z
DTEND:20251205T170000Z
DESCRIPTION:\\n\\nContact: Sullivan Hué: sullivan.hue[at]univ-amu.fr\n\nPl
 us d'informations: https://www.amse-aixmarseille.fr/en/events/5th-annual-wo
 rkshop-arae-econometrics-sustainable-finance-0
LOCATION:Îlot Bernard du Bois - Amphithéâtre\, AMU - AMSE\, 5-9 boulevar
 d Maurice Bourdet\, 13001 Marseille
URL;VALUE=URI:https://www.amse-aixmarseille.fr/en/events/5th-annual-workshop-arae-econometrics-sustainable-finance-0
CONTACT:Sullivan Hué: sullivan.hue[at]univ-amu.fr
TRANSP:OPAQUE
END:VEVENT
END:VCALENDAR
