BEGIN:VCALENDAR
VERSION:2.0
PRODID:-//AMSE//Event Calendar//FR
CALSCALE:GREGORIAN
METHOD:PUBLISH
BEGIN:VEVENT
UID:event-8666@www.amse-aixmarseille.fr
DTSTAMP:20260421T110510Z
CREATED:20260421T110510Z
LAST-MODIFIED:20260421T110510Z
STATUS:CONFIRMED
SEQUENCE:0
SUMMARY:confÃ©rences/workshops - 21st JournÃ©es Louis-AndrÃ© GÃ©rard-Varet
DTSTART:20220606T073000Z
DTEND:20220608T103000Z
DESCRIPTION:Â The 21st edition of the JournÃ©es Louis-AndrÃ© GÃ©rard-Varet 
 will take place fromÂ Monday\, June 6 to Wednesday\, June 8\, 2022Â at theÂ
  Palais du PharoÂ in Marseille. Online participants are accepted.LAGV is on
 e of the most important yearly conference in public economics in Europe. It
  aims to promote and diffuse high-quality research\, with a special emphasi
 s on articles that shed light on â€™real worldâ€™ policy making.We will wel
 come 3Â keynote speakers:Myrna WOODERS\, Vanderbilt University\, College of
  Arts and ScienceRabah AMIR\, University of Iowa\, Tippie College of Busine
 ssMarc FLEURBAEY\, Paris School of Economics\, CNRSThe call for papers is a
 vailable HERE\, deadline to submit is FebruaryÂ 25\, 2022.The 21st JournÃ©e
 s Louis-AndrÃ© GÃ©rard-Varet will be held just before the International Con
 ference on Public Economic Theory (PET)\, which will take place from June 8
  to 10\, 2022. Researchers attending either event will also be able to regi
 ster and participate in the other conference.For more information\, please 
 visit the eventÂ website.Â Â© Photo by F. Lhuillier\\n\\nContact: contact[a
 t]amselagv.com\n\nPlus d'informations: https://www.amse-aixmarseille.fr/en/
 events/21st-journ%C3%A9es-louis-andr%C3%A9-g%C3%A9rard-varet
URL;VALUE=URI:https://www.amse-aixmarseille.fr/en/events/21st-journ%C3%A9es-louis-andr%C3%A9-g%C3%A9rard-varet
CONTACT:contact[at]amselagv.com
TRANSP:OPAQUE
END:VEVENT
END:VCALENDAR
