BEGIN:VCALENDAR
VERSION:2.0
PRODID:-//AMSE//Event Calendar//FR
CALSCALE:GREGORIAN
METHOD:PUBLISH
BEGIN:VEVENT
UID:event-8668@www.amse-aixmarseille.fr
DTSTAMP:20260421T110509Z
CREATED:20260421T110509Z
LAST-MODIFIED:20260421T110509Z
STATUS:CONFIRMED
SEQUENCE:0
SUMMARY:confÃ©rences/workshops - International Conference on Public Economi
 c Theory
DTSTART:20220608T103000Z
DTEND:20220610T150000Z
DESCRIPTION:Â The International Conference on Public Economic Theory (PET 2
 022) will take place from Wednesday\, June 8 to Friday\, June 10\, 2022 in 
 Marseille (France) - Palais du Pharo.Â Online participants are accepted.We 
 will welcome Glenn C. LOURY (Brown University) as keynote speakers\, and 8 
 semi-plenaries speakers:FranÃ§oise FORGES (UniversitÃ© Paris-Dauphine) andÂ
  Sanjeev GOYAL (University of Cambridge)Edward SCHLEE (Arizona State Univer
 sity) and Nikos NIKIFORAKIS (New York University Abu Dhabi)Helmuth CREMER (
 Toulouse School of Economics) andÂ Karine NYBORG (University of Oslo)Xavier
  VIVES (University of Navarra\, IESE Business School) and â€‹â€‹Hulya ERASL
 ANÂ (RiceÂ University)The call for papers is available HERE\, deadline to s
 ubmit is February 25\, 2022.The PET conference will be held just after the 
 21st JournÃ©es Louis-AndrÃ© GÃ©rard-Varet (LAGV)\, which will take place fr
 om June 6 to 8\, 2022. Researchers attending either event will also be able
  to register and participate in the other conference.Event hosted by Aix-Ma
 rseille School of Economics (AMSE).More information on the dedicated websit
 e.Â Â© Photo by F. Lhuillier\\n\\nContact: pet2022[at]amse-aixmarseille.fr\
 n\nPlus d'informations: https://www.amse-aixmarseille.fr/en/events/internat
 ional-conference-public-economic-theory
URL;VALUE=URI:https://www.amse-aixmarseille.fr/en/events/international-conference-public-economic-theory
CONTACT:pet2022[at]amse-aixmarseille.fr
TRANSP:OPAQUE
END:VEVENT
END:VCALENDAR
