BEGIN:VCALENDAR
VERSION:2.0
PRODID:-//AMSE//Event Calendar//FR
CALSCALE:GREGORIAN
METHOD:PUBLISH
BEGIN:VEVENT
UID:event-8676@www.amse-aixmarseille.fr
DTSTAMP:20260421T171659Z
CREATED:20260421T171659Z
LAST-MODIFIED:20260421T171659Z
STATUS:CONFIRMED
SEQUENCE:0
SUMMARY:Inter-eval seminar - Edina Soldo\, Bruno Tiberghien
DTSTART:20220311T110000Z
DTEND:20220311T124500Z
DESCRIPTION:Sur la base des travaux menés dans le cadre du projet H2020 CO
 GOV\, qui réfléchit au renouvellement des modalités de l'action publique
  via l'intégration de logiques participatives à la décision et la mise e
 n œuvre de l'action publique\, nous proposons de prolonger cette réflex
 ion sur la dimension évaluative. En quoi ces nouvelles modalités de l'act
 ion publique questionnent les pratiques\, méthodes et référentiels éval
 uatifs existants ?Dans un premier temps\, seront présentés de présentati
 on formelle des résultats du projet COGOV : i) focus sur la démarche ce
 ntrale de co-création de l’action publique mobilisée dans le cadre de c
 e projet \; illustration via des cas pratiques analysés dans le projet ii
 ) retour réflexif sur la manière dont ces démarches de co-création de l
 ’action publique questionnent les dispositifs évaluatifs traditionnels.U
 n deuxième temps de co-création de réponses / idéation avec la salle 
 (recours à l’outil wooclap : https://www.wooclap.com/) concluera la pré
 sentation\, avant la discussion (discutant : Claudio Vitari) et les échang
 es avec la salle. Discussant: Claudio Vitari (AMU\, CERGAM)\\n\\nContact
 : Alice Fabre: alice.fabre[at]univ-amu.fr\n\nPlus d'informations: https://w
 ww.amse-aixmarseille.fr/en/events/edina-soldo-bruno-tiberghien-0
LOCATION:MEGA - Salle Carine Nourry\, 424\, Chemin du Viaduc\, 13080 Aix-en
 -Provence
URL;VALUE=URI:https://www.amse-aixmarseille.fr/en/events/edina-soldo-bruno-tiberghien-0
CONTACT:Alice Fabre: alice.fabre[at]univ-amu.fr
TRANSP:OPAQUE
END:VEVENT
END:VCALENDAR
