BEGIN:VCALENDAR
VERSION:2.0
PRODID:-//AMSE//Event Calendar//FR
CALSCALE:GREGORIAN
METHOD:PUBLISH
BEGIN:VEVENT
UID:event-8754@www.amse-aixmarseille.fr
DTSTAMP:20260421T110438Z
CREATED:20260421T110438Z
LAST-MODIFIED:20260421T110438Z
STATUS:CONFIRMED
SEQUENCE:0
SUMMARY:conférences/workshops - DeMUr Workshop
DTSTART:20220519T120000Z
DTEND:20220520T134500Z
DESCRIPTION:The DEMUR workshop is organized against the background of the A
 NR research project on uncertainty and risk in macroeconomic\, details avai
 lable here. The aim of this workshop is to bring together researchers worki
 ng on those topics in order to present and discuss their ongoing research.\
 \n\\nContact: Andreas Dibiasi: andreas.dibiasi[at]univ-amu.frCéline Poilly
 : celine.poilly[at]univ-amu.fr\n\nPlus d'informations: https://www.amse-aix
 marseille.fr/en/events/demur-workshop
LOCATION:Îlot Bernard du Bois - Amphithéâtre\, AMU - AMSE\, 5-9 boulevar
 d Maurice Bourdet\, 13001 Marseille
URL;VALUE=URI:https://www.amse-aixmarseille.fr/en/events/demur-workshop
CONTACT:Andreas Dibiasi: andreas.dibiasi[at]univ-amu.frCéline Poilly: celi
 ne.poilly[at]univ-amu.fr
TRANSP:OPAQUE
END:VEVENT
END:VCALENDAR
