BEGIN:VCALENDAR
VERSION:2.0
PRODID:-//AMSE//Event Calendar//FR
CALSCALE:GREGORIAN
METHOD:PUBLISH
BEGIN:VEVENT
UID:event-8967@www.amse-aixmarseille.fr
DTSTAMP:20260421T135950Z
CREATED:20260421T135950Z
LAST-MODIFIED:20260421T135950Z
STATUS:CONFIRMED
SEQUENCE:0
SUMMARY:economic philosophy seminar - CÃ©line Spector
DTSTART:20220401T080000Z
DTEND:20220401T100000Z
DESCRIPTION:En suivant la voie ouverte par Philippe Van Parijs dans sa crit
 ique de Rawls\, cette confÃ©rence montrera quâ€™il est possible dâ€™associe
 rÂ lesÂ Ã‰tats europÃ©ens par des rÃ¨gles distributives plus exigeantes que
  le simple devoir dâ€™assistance. Le marchÃ© intÃ©rieur crÃ©e une situation
  dâ€™injustice pour les victimes de lâ€™ouverture des marchÃ©s et des sociÃ
 ©tÃ©s. Certains arrÃªts de la Cour de justice de lâ€™Union europÃ©enne ont 
 affirmÃ© le primat des normes du marchÃ© intÃ©rieur sur le droit de grÃ¨ve 
 ou les conventions collectives nationales. De ce fait\, la question classiq
 ue des Â«Â circonstances de la justiceÂ Â»\, câ€™est-Ã -dire de lâ€™Ã©tendu
 e du domaine au sein duquel il convient dâ€™organiser la redistribution des
  ressources rares\, ne se pose plus seulement au niveau domestiqueÂ : elle 
 prend sens dÃ©sormais au niveau europÃ©en.Â Encore faut-il savoir comment r
 edistribuer. Cette intervention Ã©voquera dâ€™abord briÃ¨vement\, pour les 
 rÃ©futer\, les rÃ©serves des souverainistes comme David Miller contre toute
  justice post-nationale\, sans se rallier pour autant Ã  une dÃ©fense de la
  justice cosmopolitiqueÂ \; puis elle engagera un dialogue critique avec le
 s propositions du philosophe Andrea Sangiovanni en faveur de la solidaritÃ©
  europÃ©enne\, en tentant de dÃ©gager des Â«Â principes de justiceÂ Â» vala
 bles Ã  cette Ã©chelle.\\n\\nContact: Feriel Kandil:Â feriel.kandil[at]univ
 -amu.frMiriam Teschl:Â miriam.teschl[at]ehess.fr\n\nPlus d'informations: ht
 tps://www.amse-aixmarseille.fr/en/events/c%C3%A9line-spector-2
LOCATION:ÃŽlot Bernard du Bois - Salle 17\, AMU - AMSE\, 5-9 boulevard Maur
 ice Bourdet\, 13001 Marseille
URL;VALUE=URI:https://www.amse-aixmarseille.fr/en/events/c%C3%A9line-spector-2
CONTACT:Feriel Kandil:&nbsp\;feriel.kandil[at]univ-amu.frMiriam Teschl:&nbs
 p\;miriam.teschl[at]ehess.fr
TRANSP:OPAQUE
END:VEVENT
END:VCALENDAR
