BEGIN:VCALENDAR
VERSION:2.0
PRODID:-//AMSE//Event Calendar//FR
CALSCALE:GREGORIAN
METHOD:PUBLISH
BEGIN:VEVENT
UID:event-9038@www.amse-aixmarseille.fr
DTSTAMP:20260421T110511Z
CREATED:20260421T110511Z
LAST-MODIFIED:20260421T110511Z
STATUS:CONFIRMED
SEQUENCE:0
SUMMARY:soutenances de thèse - Fabien Petit
DTSTART:20220506T090000Z
DTEND:20220506T090000Z
DESCRIPTION:Plus d'informations: https://www.amse-aixmarseille.fr/en/events
 /fabien-petit-0
LOCATION:MEGA
URL;VALUE=URI:https://www.amse-aixmarseille.fr/en/events/fabien-petit-0
TRANSP:OPAQUE
END:VEVENT
END:VCALENDAR
