BEGIN:VCALENDAR
VERSION:2.0
PRODID:-//AMSE//Event Calendar//FR
CALSCALE:GREGORIAN
METHOD:PUBLISH
BEGIN:VEVENT
UID:event-9040@www.amse-aixmarseille.fr
DTSTAMP:20260421T110438Z
CREATED:20260421T110438Z
LAST-MODIFIED:20260421T110438Z
STATUS:CONFIRMED
SEQUENCE:0
SUMMARY:conférences/workshops - The 2022 French Stata conference in applie
 d econometrics
DTSTART:20220630T070000Z
DTEND:20220701T150000Z
DESCRIPTION:The 2022 French Stata conference in applied econometrics will b
 e held from Thursday\, June 30 to Friday\, July 1\, 2022 at the Aix-Mar
 seille School of Economics (AMSE) and co-organized with Timberlake Consulta
 nts. The conference aims to welcome quality research in applied econometric
 s from all fields using Stata to perform their analysis. It will not be foc
 used on the presentations of user-developed commands but will offer the opp
 ortunity to present applied works developed in Stata.We will host two out-s
 tanding keynote speakers:Xavier D’haultfoeuille (CREST-ENSAE)Jeffrey Woo
 ldridge (Michigan State University)The call for papers is available HERE \
 ; deadline to submit is March 25.More information on the dedicated website.
 \\n\\nContact: statafrance2022[at]amse-aixmarseille.fr\n\nPlus d'informatio
 ns: https://www.amse-aixmarseille.fr/en/events/2022-french-stata-conference
 -applied-econometrics-0
LOCATION:Îlot Bernard du Bois
URL;VALUE=URI:https://www.amse-aixmarseille.fr/en/events/2022-french-stata-conference-applied-econometrics-0
CONTACT:statafrance2022[at]amse-aixmarseille.fr
TRANSP:OPAQUE
END:VEVENT
END:VCALENDAR
