BEGIN:VCALENDAR
VERSION:2.0
PRODID:-//AMSE//Event Calendar//FR
CALSCALE:GREGORIAN
METHOD:PUBLISH
BEGIN:VEVENT
UID:event-9123@www.amse-aixmarseille.fr
DTSTAMP:20260421T110438Z
CREATED:20260421T110438Z
LAST-MODIFIED:20260421T110438Z
STATUS:CONFIRMED
SEQUENCE:0
SUMMARY:conférences/workshops - Workshop AMSE – BANQUE DE FRANCE
DTSTART:20220624T070000Z
DTEND:20220624T150000Z
DESCRIPTION:\\n\\nContact: Antoine Berthou: antoine.berthou[at]banque-fran
 ce.frCéline Poilly: celine.poilly[at]univ-amu.fr\n\nPlus d'informations: h
 ttps://www.amse-aixmarseille.fr/en/events/workshop-amse-%E2%80%93-banque-de
 -france-0
LOCATION:Îlot Bernard du Bois - Amphithéâtre\, AMU - AMSE\, 5-9 boulevar
 d Maurice Bourdet\, 13001 Marseille
URL;VALUE=URI:https://www.amse-aixmarseille.fr/en/events/workshop-amse-%E2%80%93-banque-de-france-0
CONTACT:Antoine Berthou:&nbsp\;antoine.berthou[at]banque-france.frCéline P
 oilly: celine.poilly[at]univ-amu.fr
TRANSP:OPAQUE
END:VEVENT
END:VCALENDAR
