BEGIN:VCALENDAR
VERSION:2.0
PRODID:-//AMSE//Event Calendar//FR
CALSCALE:GREGORIAN
METHOD:PUBLISH
BEGIN:VEVENT
UID:event-9129@www.amse-aixmarseille.fr
DTSTAMP:20260421T110509Z
CREATED:20260421T110509Z
LAST-MODIFIED:20260421T110509Z
STATUS:CONFIRMED
SEQUENCE:0
SUMMARY:soutenances de thèse - Rosnel Sessinou
DTSTART:20220520T120000Z
DTEND:20220520T120000Z
DESCRIPTION:Plus d'informations: https://www.amse-aixmarseille.fr/en/events
 /rosnel-sessinou-6
LOCATION:MEGA
URL;VALUE=URI:https://www.amse-aixmarseille.fr/en/events/rosnel-sessinou-6
TRANSP:OPAQUE
END:VEVENT
END:VCALENDAR
