BEGIN:VCALENDAR
VERSION:2.0
PRODID:-//AMSE//Event Calendar//FR
CALSCALE:GREGORIAN
METHOD:PUBLISH
BEGIN:VEVENT
UID:event-9239@www.amse-aixmarseille.fr
DTSTAMP:20260421T110534Z
CREATED:20260421T110534Z
LAST-MODIFIED:20260421T110534Z
STATUS:CONFIRMED
SEQUENCE:0
SUMMARY:enseignement - Graduation ceremony
DTSTART:20220624T150000Z
DTEND:20220624T150000Z
DESCRIPTION: The AMSE graduation ceremony celebrating the cohorts 2020 and
  2021 (Master\, Magistère and DESU Data Science) will be held on Friday\, 
 June 24 at 5pm at the Théâtre de la Joliette (Marseille) and will be f
 ollowed by a cocktail.Mario NAVA\, Director-General - Directorate-General 
 Structural Reform Support” (REFORM)\, European Commission\, will host t
 he ceremony.\\n\\nContact: infoecole[at]amse-aixmarseille.fr\n\nPlus d'info
 rmations: https://www.amse-aixmarseille.fr/en/events/graduation-ceremony
URL;VALUE=URI:https://www.amse-aixmarseille.fr/en/events/graduation-ceremony
CONTACT:infoecole[at]amse-aixmarseille.fr
TRANSP:OPAQUE
END:VEVENT
END:VCALENDAR
