BEGIN:VCALENDAR
VERSION:2.0
PRODID:-//AMSE//Event Calendar//FR
CALSCALE:GREGORIAN
METHOD:PUBLISH
BEGIN:VEVENT
UID:event-9359@www.amse-aixmarseille.fr
DTSTAMP:20260421T122148Z
CREATED:20260421T122148Z
LAST-MODIFIED:20260421T122148Z
STATUS:CONFIRMED
SEQUENCE:0
SUMMARY:soutenances de thèse - Anne-Kim Ristori
DTSTART:20221107T133000Z
DTEND:20221107T133000Z
DESCRIPTION:Plus d'informations: https://www.amse-aixmarseille.fr/en/events
 /anne-kim-ristori-4
URL;VALUE=URI:https://www.amse-aixmarseille.fr/en/events/anne-kim-ristori-4
TRANSP:OPAQUE
END:VEVENT
END:VCALENDAR
