BEGIN:VCALENDAR
VERSION:2.0
PRODID:-//AMSE//Event Calendar//FR
CALSCALE:GREGORIAN
METHOD:PUBLISH
BEGIN:VEVENT
UID:event-9389@www.amse-aixmarseille.fr
DTSTAMP:20260422T142003Z
CREATED:20260422T142003Z
LAST-MODIFIED:20260422T142003Z
STATUS:CONFIRMED
SEQUENCE:0
SUMMARY:amse seminar - Diego Puga
DTSTART:20221107T103000Z
DTEND:20221107T114500Z
DESCRIPTION:We develop an urban growth model where human capital spillovers
  foster entrepreneurship and learning in heterogeneous cities. Incumbent re
 sidents limit city expansion through planning regulations so that commuting
  and housing costs do not outweigh productivity gains from agglomeration. T
 he model builds on strong microfoundations\, matches key regularities at th
 e city and economy-wide levels\, and generates novel predictions for which 
 we provide evidence. It can be quantified relying on few parameters\, provi
 des a basis to estimate the main ones\, and remains transparent regarding i
 ts mechanisms. We examine various counterfactuals to assess the effect of c
 ities on economic growth and aggregate output quantitatively.\\n\\nContact:
  Ewen Gallic: ewen.gallic[at]univ-amu.frAvner Seror: avner.seror[at]univ-am
 u.fr\n\nPlus d'informations: https://www.amse-aixmarseille.fr/en/events/die
 go-puga-0
LOCATION:Îlot Bernard du Bois - Amphithéâtre\, AMU - AMSE\, 5-9 boulevar
 d Maurice Bourdet\, 13001 Marseille
URL;VALUE=URI:https://www.amse-aixmarseille.fr/en/events/diego-puga-0
CONTACT:Ewen Gallic: ewen.gallic[at]univ-amu.frAvner Seror: avner.seror[at]
 univ-amu.fr
TRANSP:OPAQUE
END:VEVENT
END:VCALENDAR
