BEGIN:VCALENDAR
VERSION:2.0
PRODID:-//AMSE//Event Calendar//FR
CALSCALE:GREGORIAN
METHOD:PUBLISH
BEGIN:VEVENT
UID:event-9498@www.amse-aixmarseille.fr
DTSTAMP:20260421T110438Z
CREATED:20260421T110438Z
LAST-MODIFIED:20260421T110438Z
STATUS:CONFIRMED
SEQUENCE:0
SUMMARY:enseignement - Graduation ceremony
DTSTART:20221007T150000Z
DTEND:20221007T150000Z
DESCRIPTION: The AMSE graduation ceremony celebrating the cohort 2022 (Ma
 ster and Magistère) will be held on Friday\, October 7 at 5pm at Artplexe
  Canebière (Marseille) and will be followed by a cocktail.Sylvie GOULARD\,
  Deputy Governor of the Banque de France\, will be our exceptional guest an
 d will sponsor the ceremony.\\n\\nContact: infoecole[at]amse-aixmarseille.f
 r\n\nPlus d'informations: https://www.amse-aixmarseille.fr/en/events/gradua
 tion-ceremony-0
URL;VALUE=URI:https://www.amse-aixmarseille.fr/en/events/graduation-ceremony-0
CONTACT:infoecole[at]amse-aixmarseille.fr
TRANSP:OPAQUE
END:VEVENT
END:VCALENDAR
