BEGIN:VCALENDAR
VERSION:2.0
PRODID:-//AMSE//Event Calendar//FR
CALSCALE:GREGORIAN
METHOD:PUBLISH
BEGIN:VEVENT
UID:event-9549@www.amse-aixmarseille.fr
DTSTAMP:20260422T143944Z
CREATED:20260422T143944Z
LAST-MODIFIED:20260422T143944Z
STATUS:CONFIRMED
SEQUENCE:0
SUMMARY:economic philosophy seminar - Alain Trannoy
DTSTART:20221107T150000Z
DTEND:20221107T170000Z
DESCRIPTION:\\n\\nContact: Feriel Kandil: feriel.kandil[at]univ-amu.frMiri
 am Teschl: miriam.teschl[at]ehess.fr\n\nPlus d'informations: https://www.a
 mse-aixmarseille.fr/en/events/alain-trannoy-4
LOCATION:Îlot Bernard du Bois - Salle 2-32\, AMU - AMSE\, 5-9 boulevard Ma
 urice Bourdet\, 13001 Marseille
URL;VALUE=URI:https://www.amse-aixmarseille.fr/en/events/alain-trannoy-4
CONTACT:Feriel Kandil:&nbsp\;feriel.kandil[at]univ-amu.frMiriam Teschl:&nbs
 p\;miriam.teschl[at]ehess.fr
TRANSP:OPAQUE
END:VEVENT
END:VCALENDAR
