BEGIN:VCALENDAR
VERSION:2.0
PRODID:-//AMSE//Event Calendar//FR
CALSCALE:GREGORIAN
METHOD:PUBLISH
BEGIN:VEVENT
UID:event-9553@www.amse-aixmarseille.fr
DTSTAMP:20260421T135036Z
CREATED:20260421T135036Z
LAST-MODIFIED:20260421T135036Z
STATUS:CONFIRMED
SEQUENCE:0
SUMMARY:economic philosophy seminar - Pierre Livet
DTSTART:20221205T150000Z
DTEND:20221205T170000Z
DESCRIPTION:Ce livre distingue différentes types d'interactions sociales (
 directes en co-présence\, indirectes entre partenaires qui peuvent ensuite
  se retrouver\, à longue portée\, via des artefacts\, dans des réseaux d
 éveloppés\, et "mises hors de portée" par des recours à des institution
 s). Dans mon intervention\, je me focaliserai plus précisément sur la com
 plexité des dynamiques des réseaux sociaux (au sens général du terme) q
 ui combinent interactions indirectes\, de longue portée\, et mises hors de
  portée\, ce qui alimente une dualité entre constitution de nouvelles str
 uctures collectives (sociales et économiques) et instabilité de ces struc
 tures.\\n\\nContact: Feriel Kandil: feriel.kandil[at]univ-amu.frMiriam Tes
 chl: miriam.teschl[at]ehess.fr\n\nPlus d'informations: https://www.amse-ai
 xmarseille.fr/en/events/pierre-livet-0
LOCATION:Îlot Bernard du Bois - Salle 17\, AMU - AMSE\, 5-9 boulevard Maur
 ice Bourdet\, 13001 Marseille
URL;VALUE=URI:https://www.amse-aixmarseille.fr/en/events/pierre-livet-0
CONTACT:Feriel Kandil:&nbsp\;feriel.kandil[at]univ-amu.frMiriam Teschl:&nbs
 p\;miriam.teschl[at]ehess.fr
TRANSP:OPAQUE
END:VEVENT
END:VCALENDAR
