BEGIN:VCALENDAR
VERSION:2.0
PRODID:-//AMSE//Event Calendar//FR
CALSCALE:GREGORIAN
METHOD:PUBLISH
BEGIN:VEVENT
UID:event-9563@www.amse-aixmarseille.fr
DTSTAMP:20260422T121344Z
CREATED:20260422T121344Z
LAST-MODIFIED:20260422T121344Z
STATUS:CONFIRMED
SEQUENCE:0
SUMMARY:economic philosophy seminar - Giacomo Todeschini*\, Pierre Januard*
 *
DTSTART:20230522T143000Z
DTEND:20230522T173000Z
DESCRIPTION:\\n\\nContact: Feriel Kandil: feriel.kandil[at]univ-amu.frMiri
 am Teschl: miriam.teschl[at]ehess.fr\n\nPlus d'informations: https://www.a
 mse-aixmarseille.fr/en/events/giacomo-todeschini-pierre-januard-0
LOCATION:Îlot Bernard du Bois - Salle 15\, AMU - AMSE\, 5-9 boulevard Maur
 ice Bourdet\, 13001 Marseille
URL;VALUE=URI:https://www.amse-aixmarseille.fr/en/events/giacomo-todeschini-pierre-januard-0
CONTACT:Feriel Kandil:&nbsp\;feriel.kandil[at]univ-amu.frMiriam Teschl:&nbs
 p\;miriam.teschl[at]ehess.fr
TRANSP:OPAQUE
END:VEVENT
END:VCALENDAR
