BEGIN:VCALENDAR
VERSION:2.0
PRODID:-//AMSE//Event Calendar//FR
CALSCALE:GREGORIAN
METHOD:PUBLISH
BEGIN:VEVENT
UID:event-9597@www.amse-aixmarseille.fr
DTSTAMP:20260421T151634Z
CREATED:20260421T151634Z
LAST-MODIFIED:20260421T151634Z
STATUS:CONFIRMED
SEQUENCE:0
SUMMARY:soutenances de thèse - Florian Guibelin
DTSTART:20221215T130000Z
DTEND:20221215T130000Z
DESCRIPTION:Plus d'informations: https://www.amse-aixmarseille.fr/en/events
 /florian-guibelin-0
LOCATION:Îlot Bernard du Bois - Amphithéâtre\, AMU - AMSE\, 5-9 boulevar
 d Maurice Bourdet\, 13001 Marseille
URL;VALUE=URI:https://www.amse-aixmarseille.fr/en/events/florian-guibelin-0
TRANSP:OPAQUE
END:VEVENT
END:VCALENDAR
