BEGIN:VCALENDAR
VERSION:2.0
PRODID:-//AMSE//Event Calendar//FR
CALSCALE:GREGORIAN
METHOD:PUBLISH
BEGIN:VEVENT
UID:event-9660@www.amse-aixmarseille.fr
DTSTAMP:20260422T144031Z
CREATED:20260422T144031Z
LAST-MODIFIED:20260422T144031Z
STATUS:CONFIRMED
SEQUENCE:0
SUMMARY:Economic theory seminar - Frédéric Deroïan
DTSTART:20221110T110000Z
DTEND:20221110T120000Z
DESCRIPTION:\\n\\nContact: Gaëtan Fournier: gaetan.fournier[at]univ-amu.fr
 \n\nPlus d'informations: https://www.amse-aixmarseille.fr/en/events/fr%C3%A
 9d%C3%A9ric-dero%C3%AFan-0
LOCATION:Îlot Bernard du Bois - Salle 23\, AMU - AMSE\, 5-9 boulevard Maur
 ice Bourdet\, 13001 Marseille
URL;VALUE=URI:https://www.amse-aixmarseille.fr/en/events/fr%C3%A9d%C3%A9ric-dero%C3%AFan-0
CONTACT:Gaëtan Fournier: gaetan.fournier[at]univ-amu.fr
TRANSP:OPAQUE
END:VEVENT
END:VCALENDAR
