BEGIN:VCALENDAR
VERSION:2.0
PRODID:-//AMSE//Event Calendar//FR
CALSCALE:GREGORIAN
METHOD:PUBLISH
BEGIN:VEVENT
UID:event-9671@www.amse-aixmarseille.fr
DTSTAMP:20260421T112832Z
CREATED:20260421T112832Z
LAST-MODIFIED:20260421T112832Z
STATUS:CONFIRMED
SEQUENCE:0
SUMMARY:conférences/workshops - Iméra-AMSE International Conference on Ma
 rket Morality\, Globalization\, and Income Inequality
DTSTART:20221122T084500Z
DTEND:20221123T153000Z
DESCRIPTION: This conference is organized by Harutaka Takahashi\, 2022-20
 23 Iméra resident fellow and AMSE visiting.Free access without registratio
 n.>> Information and program © Photo by Iméra\\n\\nContact: Farah Ferra
 ton: farah.ferraton[at]univ-amu.fr\n\nPlus d'informations: https://www.amse
 -aixmarseille.fr/en/events/im%C3%A9ra-amse-international-conference-market-
 morality-globalization-and-income-inequality-0
URL;VALUE=URI:https://www.amse-aixmarseille.fr/en/events/im%C3%A9ra-amse-international-conference-market-morality-globalization-and-income-inequality-0
CONTACT:Farah&nbsp\;Ferraton: farah.ferraton[at]univ-amu.fr
TRANSP:OPAQUE
END:VEVENT
END:VCALENDAR
