BEGIN:VCALENDAR
VERSION:2.0
PRODID:-//AMSE//Event Calendar//FR
CALSCALE:GREGORIAN
METHOD:PUBLISH
BEGIN:VEVENT
UID:event-9679@www.amse-aixmarseille.fr
DTSTAMP:20260421T135036Z
CREATED:20260421T135036Z
LAST-MODIFIED:20260421T135036Z
STATUS:CONFIRMED
SEQUENCE:0
SUMMARY:confÃ©rences/workshops - 22nd JournÃ©es Louis-AndrÃ© GÃ©rard-Varet
DTSTART:20230628T070000Z
DTEND:20230630T150000Z
DESCRIPTION:Â The 22ndÂ edition of the JournÃ©es Louis-AndrÃ© GÃ©rard-Varet
  will take place fromÂ Wednesday\, June 28Â to Friday\, June 30\, 2023Â at 
 theÂ Palais du PharoÂ in Marseille.LAGV is one of the most important yearly
  conference in public economics in Europe. It aims to promote and diffuse h
 igh-quality research\, with a special emphasis on articles that shed light 
 on â€™real worldâ€™ policy making.We will welcome 3Â keynote speakers:Karin
 e NYBORG\, University of OsloDavid MARTIMORT\, Toulouse School of Economics
 Massimo MORELLI\, Bocconi UniversityMore information on the event website.Â
  Â© Photo by ODIN Daniel on Adobe Stock\\n\\nContact: contact[at]amselagv.c
 om\n\nPlus d'informations: https://www.amse-aixmarseille.fr/en/events/22nd-
 journ%C3%A9es-louis-andr%C3%A9-g%C3%A9rard-varet
URL;VALUE=URI:https://www.amse-aixmarseille.fr/en/events/22nd-journ%C3%A9es-louis-andr%C3%A9-g%C3%A9rard-varet
CONTACT:contact[at]amselagv.com
TRANSP:OPAQUE
END:VEVENT
END:VCALENDAR
