BEGIN:VCALENDAR
VERSION:2.0
PRODID:-//AMSE//Event Calendar//FR
CALSCALE:GREGORIAN
METHOD:PUBLISH
BEGIN:VEVENT
UID:event-9700@www.amse-aixmarseille.fr
DTSTAMP:20260421T151634Z
CREATED:20260421T151634Z
LAST-MODIFIED:20260421T151634Z
STATUS:CONFIRMED
SEQUENCE:0
SUMMARY:big data and econometrics seminar - Mohammad Abu-Zaineh
DTSTART:20221213T140000Z
DTEND:20221213T153000Z
DESCRIPTION:\\n\\nContact: Michel Lubrano: michel.lubrano[at]univ-amu.frPie
 rre Michel: pierre.michel[at]univ-amu.fr\n\nPlus d'informations: https://w
 ww.amse-aixmarseille.fr/en/events/mohammad-abu-zaineh-0
LOCATION:Îlot Bernard du Bois - Salle 21\, AMU - AMSE\, 5-9 boulevard Maur
 ice Bourdet\, 13001 Marseille
URL;VALUE=URI:https://www.amse-aixmarseille.fr/en/events/mohammad-abu-zaineh-0
CONTACT:Michel Lubrano: michel.lubrano[at]univ-amu.frPierre Michel:&nbsp\;p
 ierre.michel[at]univ-amu.fr
TRANSP:OPAQUE
END:VEVENT
END:VCALENDAR
