BEGIN:VCALENDAR
VERSION:2.0
PRODID:-//AMSE//Event Calendar//FR
CALSCALE:GREGORIAN
METHOD:PUBLISH
BEGIN:VEVENT
UID:event-9708@www.amse-aixmarseille.fr
DTSTAMP:20260421T134907Z
CREATED:20260421T134907Z
LAST-MODIFIED:20260421T134907Z
STATUS:CONFIRMED
SEQUENCE:0
SUMMARY:conférences/workshops - QFFE 2023 (Quantitative Finance and Financ
 ial Econometrics) – International Conference and Spring School
DTSTART:20230606T070000Z
DTEND:20230609T150000Z
DESCRIPTION: The 5th "Quantitative Finance and Financial Econometrics" (Q
 FFE) International Conference will take place from Thursday\, June 8 to Fr
 iday\, June 9\, 2023 in Marseille\, AMSE premises.Keynote speakers:Kris JA
 COBS\, C.T. Bauer College of Business\, University of HoustonJun YU\, Sin
 gapore Management UniversityGuest speakers:Ilze KALNINA\, North Carolina St
 ate UniversityEsther Ruiz ORTEGA\, Department of Statistics\, Universidad C
 arlos III de MadridThe QFFE Spring School will precede the conference. It w
 ill consist of two courses taught from Tuesday\, June 6 to Wednesday\, June
  7\, 2023 by:Kris JACOBS\, C.T. Bauer College of Business\, University of 
 Houston - Specification and Estimation of Dynamic Option Valuation ModelsJ
 un YU\, Singapore Management University - Estimation\, Inference\, Predic
 tion\, Identification of Fractional Time SeriesThe call for papers is avail
 able HERE\; more information on the event website.\\n\\nContact: qffe2023[a
 t]amse-aixmarseille.fr\n\nPlus d'informations: https://www.amse-aixmarseill
 e.fr/en/events/qffe-2023-quantitative-finance-and-financial-econometrics-%E
 2%80%93-international-conference-and
LOCATION:Îlot Bernard du Bois
URL;VALUE=URI:https://www.amse-aixmarseille.fr/en/events/qffe-2023-quantitative-finance-and-financial-econometrics-%E2%80%93-international-conference-and
CONTACT:qffe2023[at]amse-aixmarseille.fr
TRANSP:OPAQUE
END:VEVENT
END:VCALENDAR
