BEGIN:VCALENDAR
VERSION:2.0
PRODID:-//AMSE//Event Calendar//FR
CALSCALE:GREGORIAN
METHOD:PUBLISH
BEGIN:VEVENT
UID:event-9727@www.amse-aixmarseille.fr
DTSTAMP:20260421T165218Z
CREATED:20260421T165218Z
LAST-MODIFIED:20260421T165218Z
STATUS:CONFIRMED
SEQUENCE:0
SUMMARY:conférences/workshops - ThReD Conference 2023
DTSTART:20230615T070000Z
DTEND:20230616T150000Z
DESCRIPTION: AMSE will host the 2023 ThReD conference. The event will tak
 e place on June 15 and 16 at AMSE Marseille (IBD).ThReD is dedicated to the
 oretical research and its relation to empirical analysis in development eco
 nomics.More information on the website. © Photo by ThReD\\n\\nContact: th
 redweb[at]gmail.com\n\nPlus d'informations: https://www.amse-aixmarseille.f
 r/en/events/thred-conference-2023-0
LOCATION:Îlot Bernard du Bois
URL;VALUE=URI:https://www.amse-aixmarseille.fr/en/events/thred-conference-2023-0
CONTACT:thredweb[at]gmail.com
TRANSP:OPAQUE
END:VEVENT
END:VCALENDAR
