BEGIN:VCALENDAR
VERSION:2.0
PRODID:-//AMSE//Event Calendar//FR
CALSCALE:GREGORIAN
METHOD:PUBLISH
BEGIN:VEVENT
UID:event-9734@www.amse-aixmarseille.fr
DTSTAMP:20260421T135102Z
CREATED:20260421T135102Z
LAST-MODIFIED:20260421T135102Z
STATUS:CONFIRMED
SEQUENCE:0
SUMMARY:conférences/workshops - Tenth ECINEQ Meeting 2023
DTSTART:20230710T070000Z
DTEND:20230712T150000Z
DESCRIPTION: AMSE will host the Tenth Meeting of the Society for the Study
  of Economic Inequality (ECINEQ) from July 10 to July 12\, 2023. The event 
 will take place at the Faculté de Droit et de Science Politique in Aix-en-
 Provence.The ECINEQ conference aims at providing an international forum for
  all researchers interested in the analysis of economic inequality and rela
 ted fields\, bringing together a diversity of perspectives.The keynote spea
 kers are:Anders Björklund\, Swedish Institute for Social ResearchRaquel Fe
 rnández\, New York UniversityNora Lustig\, Tulane UniversityMore informati
 on on the website.\\n\\nContact: ecineq2023[at]amse-aixmarseille.fr\n\nPlus
  d'informations: https://www.amse-aixmarseille.fr/en/events/tenth-ecineq-me
 eting-2023-0
URL;VALUE=URI:https://www.amse-aixmarseille.fr/en/events/tenth-ecineq-meeting-2023-0
CONTACT:ecineq2023[at]amse-aixmarseille.fr
TRANSP:OPAQUE
END:VEVENT
END:VCALENDAR
