BEGIN:VCALENDAR
VERSION:2.0
PRODID:-//AMSE//Event Calendar//FR
CALSCALE:GREGORIAN
METHOD:PUBLISH
BEGIN:VEVENT
UID:event-9784@www.amse-aixmarseille.fr
DTSTAMP:20260421T114841Z
CREATED:20260421T114841Z
LAST-MODIFIED:20260421T114841Z
STATUS:CONFIRMED
SEQUENCE:0
SUMMARY:job market seminar - Jiakun Zheng
DTSTART:20230105T083000Z
DTEND:20230105T094500Z
DESCRIPTION:\\n\\nContact: Frédéric Deroïan: frederic.deroian[at]univ-a
 mu.fr\n\nPlus d'informations: https://www.amse-aixmarseille.fr/en/events/ji
 akun-zheng-0
URL;VALUE=URI:https://www.amse-aixmarseille.fr/en/events/jiakun-zheng-0
CONTACT:Frédéric Deroïan:&nbsp\;frederic.deroian[at]univ-amu.fr
TRANSP:OPAQUE
END:VEVENT
END:VCALENDAR
