BEGIN:VCALENDAR
VERSION:2.0
PRODID:-//AMSE//Event Calendar//FR
CALSCALE:GREGORIAN
METHOD:PUBLISH
BEGIN:VEVENT
UID:event-9786@www.amse-aixmarseille.fr
DTSTAMP:20260421T114840Z
CREATED:20260421T114840Z
LAST-MODIFIED:20260421T114840Z
STATUS:CONFIRMED
SEQUENCE:0
SUMMARY:job market seminar - Marieke Pahlke
DTSTART:20230109T103000Z
DTEND:20230109T114500Z
DESCRIPTION:\\n\\nContact: Frédéric Deroïan: frederic.deroian[at]univ-a
 mu.fr\n\nPlus d'informations: https://www.amse-aixmarseille.fr/en/events/ma
 rieke-pahlke-0
LOCATION:Îlot Bernard du Bois - Amphithéâtre\, AMU - AMSE\, 5-9 boulevar
 d Maurice Bourdet\, 13001 Marseille
URL;VALUE=URI:https://www.amse-aixmarseille.fr/en/events/marieke-pahlke-0
CONTACT:Frédéric Deroïan:&nbsp\;frederic.deroian[at]univ-amu.fr
TRANSP:OPAQUE
END:VEVENT
END:VCALENDAR
