BEGIN:VCALENDAR
VERSION:2.0
PRODID:-//AMSE//Event Calendar//FR
CALSCALE:GREGORIAN
METHOD:PUBLISH
BEGIN:VEVENT
UID:event-9849@www.amse-aixmarseille.fr
DTSTAMP:20260421T152649Z
CREATED:20260421T152649Z
LAST-MODIFIED:20260421T152649Z
STATUS:CONFIRMED
SEQUENCE:0
SUMMARY:conférences/workshops - 7th AMSE BDF workshop in Macroeconomics
DTSTART:20230707T070000Z
DTEND:20230707T150000Z
DESCRIPTION:The 7th AMSE BDF workshop in Macroeconomics is organized jointl
 y by AMSE and the Banque de France and it will take place in Marseille. Thi
 s workshop aims at bringing together bringing together young and senior res
 earchers to discuss recent developments in macroeconomic. The workshop is o
 rganized over one day over which 6 papers are presented and discussed.\\n\\
 nContact: Andreas Dibiasi: andreas.dibiasi[at]univ-amu.frCéline Poilly: ce
 line.poilly[at]univ-amu.fr\n\nPlus d'informations: https://www.amse-aixmars
 eille.fr/en/events/7th-amse-bdf-workshop-macroeconomics-0
LOCATION:Îlot Bernard du Bois - Amphithéâtre\, AMU - AMSE\, 5-9 boulevar
 d Maurice Bourdet\, 13001 Marseille
URL;VALUE=URI:https://www.amse-aixmarseille.fr/en/events/7th-amse-bdf-workshop-macroeconomics-0
CONTACT:Andreas Dibiasi: andreas.dibiasi[at]univ-amu.frCéline Poilly: celi
 ne.poilly[at]univ-amu.fr
TRANSP:OPAQUE
END:VEVENT
END:VCALENDAR
