BEGIN:VCALENDAR
VERSION:2.0
PRODID:-//AMSE//Event Calendar//FR
CALSCALE:GREGORIAN
METHOD:PUBLISH
BEGIN:VEVENT
UID:event-9988@www.amse-aixmarseille.fr
DTSTAMP:20260421T143744Z
CREATED:20260421T143744Z
LAST-MODIFIED:20260421T143744Z
STATUS:CONFIRMED
SEQUENCE:0
SUMMARY:soutenances de thèse - Marion Coste
DTSTART:20230523T130000Z
DTEND:20230523T130000Z
DESCRIPTION:Plus d'informations: https://www.amse-aixmarseille.fr/en/events
 /marion-coste-2
LOCATION:Îlot Bernard du Bois - Amphithéâtre\, AMU - AMSE\, 5-9 boulevar
 d Maurice Bourdet\, 13001 Marseille
URL;VALUE=URI:https://www.amse-aixmarseille.fr/en/events/marion-coste-2
TRANSP:OPAQUE
END:VEVENT
END:VCALENDAR
