BEGIN:VCALENDAR
VERSION:2.0
PRODID:-//AMSE//Event Calendar//FR
CALSCALE:GREGORIAN
METHOD:PUBLISH
BEGIN:VEVENT
UID:event-10020@www.amse-aixmarseille.fr
DTSTAMP:20260421T130421Z
CREATED:20260421T130421Z
LAST-MODIFIED:20260421T130421Z
STATUS:CONFIRMED
SEQUENCE:0
SUMMARY:conférences/workshops - Post-doc day
DTSTART:20230317T081500Z
DTEND:20230317T140000Z
DESCRIPTION:Programme :09:15-09:45     Eddy Zanoutene\, Paris 209:45-10:
 15     Aymeric Ortmans\, Paris-Saclay10:15-10:45     Arnaud Deseau\, 
 UCL (Bruxelles)10:45-11:00     Pause11:00-11:30     Afonso Camara Lem
 e\, Nova School of B and E (Lisboa)11:30-12:00     Betul Turkum\, EUI (F
 lorence)12:00-14:00     Déjeuner14:00-14:30     Tselmuun Tserenkhuu\
 , Guelph U. (Ontario)14:30-15:00     Ge Song\, University of Colorado (B
 oulder) \\n\\nContact: Frédéric Deroïan : frederic.deroian[at]univ-amu.
 frFederico Trionfetti : federico.trionfetti[at]univ-amu.fr\n\nPlus d'inform
 ations: https://www.amse-aixmarseille.fr/fr/evenements/post-doc-day
URL;VALUE=URI:https://www.amse-aixmarseille.fr/fr/evenements/post-doc-day
CONTACT:Frédéric Deroïan : frederic.deroian[at]univ-amu.frFederico Trion
 fetti : federico.trionfetti[at]univ-amu.fr
TRANSP:OPAQUE
END:VEVENT
END:VCALENDAR
