BEGIN:VCALENDAR
VERSION:2.0
PRODID:-//AMSE//Event Calendar//FR
CALSCALE:GREGORIAN
METHOD:PUBLISH
BEGIN:VEVENT
UID:event-10027@www.amse-aixmarseille.fr
DTSTAMP:20260421T130428Z
CREATED:20260421T130428Z
LAST-MODIFIED:20260421T130428Z
STATUS:CONFIRMED
SEQUENCE:0
SUMMARY:conférences/workshops - Journée d'études positions MCF AMSE LEA/
 ScPO
DTSTART:20230324T080000Z
DTEND:20230324T163000Z
DESCRIPTION:\\n\\nContact: Alice Fabre : alice.fabre[at]univ-amu.frCéline 
 Gimet : celine.gimet[at]sciencespo-aix.fr\n\nPlus d'informations: https://w
 ww.amse-aixmarseille.fr/fr/evenements/journ%C3%A9e-d%C3%A9tudes-positions-m
 cf-amse-leascpo
LOCATION:MEGA - Salle Carine Nourry\, 424\, Chemin du Viaduc\, 13080 Aix-en
 -Provence
URL;VALUE=URI:https://www.amse-aixmarseille.fr/fr/evenements/journ%C3%A9e-d%C3%A9tudes-positions-mcf-amse-leascpo
CONTACT:Alice Fabre : alice.fabre[at]univ-amu.frCéline Gimet : celine.gime
 t[at]sciencespo-aix.fr
TRANSP:OPAQUE
END:VEVENT
END:VCALENDAR
