BEGIN:VCALENDAR
VERSION:2.0
PRODID:-//AMSE//Event Calendar//FR
CALSCALE:GREGORIAN
METHOD:PUBLISH
BEGIN:VEVENT
UID:event-10136@www.amse-aixmarseille.fr
DTSTAMP:20260421T113723Z
CREATED:20260421T113723Z
LAST-MODIFIED:20260421T113723Z
STATUS:CONFIRMED
SEQUENCE:0
SUMMARY:conférences/workshops - DeMUr workshop
DTSTART:20230524T071500Z
DTEND:20230524T150000Z
DESCRIPTION:Pendant cet événement\, les membres de l'ANR "Decision Makin
 g Under Uncertainty" (ANR-20-CE26-0013) sont invités à présenter leurs r
 echerches actuelles liées à l'incertitude macroéconomique. Plus de déta
 ils ICI.\\n\\nContact: Andreas Dibiasi : andreas.dibiasi[at]univ-amu.frCél
 ine Poilly : celine.poilly[at]univ-amu.fr\n\nPlus d'informations: https://w
 ww.amse-aixmarseille.fr/fr/evenements/demur-workshop-0
LOCATION:Îlot Bernard du Bois - Salle 24\, AMU - AMSE\, 5-9 boulevard Maur
 ice Bourdet\, 13001 Marseille
URL;VALUE=URI:https://www.amse-aixmarseille.fr/fr/evenements/demur-workshop-0
CONTACT:Andreas Dibiasi : andreas.dibiasi[at]univ-amu.frCéline Poilly : ce
 line.poilly[at]univ-amu.fr
TRANSP:OPAQUE
END:VEVENT
END:VCALENDAR
