BEGIN:VCALENDAR
VERSION:2.0
PRODID:-//AMSE//Event Calendar//FR
CALSCALE:GREGORIAN
METHOD:PUBLISH
BEGIN:VEVENT
UID:event-10226@www.amse-aixmarseille.fr
DTSTAMP:20260421T104417Z
CREATED:20260421T104417Z
LAST-MODIFIED:20260421T104417Z
STATUS:CONFIRMED
SEQUENCE:0
SUMMARY:conférences/workshops - EDGE Jamboree
DTSTART:20230914T070000Z
DTEND:20230915T120000Z
DESCRIPTION:The European Doctoral Group in Economics (EDGE) is a joint init
 iative of six leading economics departments in Europe whose purpose is to f
 oster the exchange of doctoral students. EDGE organises its annual conferen
 ce\, the Jamboree\, to further promote the contacts between our department
 s and the exchange of ideas and students.https://www.edge-page.net/\\n\\nCo
 ntact: Marco Fongoni : marco.fongoni[at]univ-amu.frLorenzo Rotunno : lorenz
 o.rotunno[at]univ-amu.fr\n\nPlus d'informations: https://www.amse-aixmarsei
 lle.fr/fr/evenements/edge-jamboree-1
LOCATION:Îlot Bernard du Bois - Amphithéâtre\, AMU - AMSE\, 5-9 boulevar
 d Maurice Bourdet\, 13001 Marseille
URL;VALUE=URI:https://www.amse-aixmarseille.fr/fr/evenements/edge-jamboree-1
CONTACT:Marco Fongoni : marco.fongoni[at]univ-amu.frLorenzo Rotunno : loren
 zo.rotunno[at]univ-amu.fr
TRANSP:OPAQUE
END:VEVENT
END:VCALENDAR
