BEGIN:VCALENDAR
VERSION:2.0
PRODID:-//AMSE//Event Calendar//FR
CALSCALE:GREGORIAN
METHOD:PUBLISH
BEGIN:VEVENT
UID:event-10237@www.amse-aixmarseille.fr
DTSTAMP:20260421T182724Z
CREATED:20260421T182724Z
LAST-MODIFIED:20260421T182724Z
STATUS:CONFIRMED
SEQUENCE:0
SUMMARY:big data and econometrics seminar - Lionel Truquet
DTSTART:20231114T130000Z
DTEND:20231114T143000Z
DESCRIPTION:\\n\\nContact: Michel Lubrano : michel.lubrano[at]univ-amu.frPi
 erre Michel : pierre.michel[at]univ-amu.fr\n\nPlus d'informations: https:/
 /www.amse-aixmarseille.fr/fr/evenements/lionel-truquet
LOCATION:Îlot Bernard du Bois - Salle 15\, AMU - AMSE\, 5-9 boulevard Maur
 ice Bourdet\, 13001 Marseille
URL;VALUE=URI:https://www.amse-aixmarseille.fr/fr/evenements/lionel-truquet
CONTACT:Michel Lubrano : michel.lubrano[at]univ-amu.frPierre Michel :&nbsp\
 ;pierre.michel[at]univ-amu.fr
TRANSP:OPAQUE
END:VEVENT
END:VCALENDAR
