BEGIN:VCALENDAR
VERSION:2.0
PRODID:-//AMSE//Event Calendar//FR
CALSCALE:GREGORIAN
METHOD:PUBLISH
BEGIN:VEVENT
UID:event-10239@www.amse-aixmarseille.fr
DTSTAMP:20260421T230546Z
CREATED:20260421T230546Z
LAST-MODIFIED:20260421T230546Z
STATUS:CONFIRMED
SEQUENCE:0
SUMMARY:big data and econometrics seminar - Molly Offer-Westort
DTSTART:20231212T130000Z
DTEND:20231212T143000Z
DESCRIPTION:Response adaptive experimental designs use algorithmic treatmen
 t assignment procedures to optimize design as experiments unfold. In additi
 on to improving outcomes over time\, these designs are more effective than 
 conventional randomized control trials for best arm identification and poli
 cy learning problems. However\, uptake of these designs in research and pol
 icy settings where objectives are inferential is still limited. I discuss c
 onsiderations for design decisions and procedures for analysis for applied 
 researchers\; I present non-contextual and contextual applications to Faceb
 ook Messenger studies.\\n\\nContact: Michel Lubrano : michel.lubrano[at]uni
 v-amu.frPierre Michel : pierre.michel[at]univ-amu.fr\n\nPlus d'information
 s: https://www.amse-aixmarseille.fr/fr/evenements/molly-offer-westort
LOCATION:Îlot Bernard du Bois - Salle 23\, AMU - AMSE\, 5-9 boulevard Maur
 ice Bourdet\, 13001 Marseille
URL;VALUE=URI:https://www.amse-aixmarseille.fr/fr/evenements/molly-offer-westort
CONTACT:Michel Lubrano : michel.lubrano[at]univ-amu.frPierre Michel :&nbsp\
 ;pierre.michel[at]univ-amu.fr
TRANSP:OPAQUE
END:VEVENT
END:VCALENDAR
