BEGIN:VCALENDAR
VERSION:2.0
PRODID:-//AMSE//Event Calendar//FR
CALSCALE:GREGORIAN
METHOD:PUBLISH
BEGIN:VEVENT
UID:event-10249@www.amse-aixmarseille.fr
DTSTAMP:20260422T131538Z
CREATED:20260422T131538Z
LAST-MODIFIED:20260422T131538Z
STATUS:CONFIRMED
SEQUENCE:0
SUMMARY:AMSE lecture - Alberto Bisin
DTSTART:20231013T111500Z
DTEND:20231013T130000Z
DESCRIPTION:We study cultural integration as an equilibrium of marital matc
 hing and intra-household decisions regarding fertility and cultural sociali
 zation. Structural estimates reveal strong demand to preserve cultural iden
 tity on the part of immigrants and little acceptance of the immigrants’ c
 ultural diversity of natives. Nonetheless\, we simulate substantial\, thoug
 h heterogeneous\, integration rates across immigrant groups\, 75% on averag
 e over one generation. Counterfactuals show how more accepting preferences 
 of the natives would lead to slower cultural integration\, while a reductio
 n in economic incentives to immigrants would increase it. Finally\, we eval
 uate a policy enhancing social welfare by strengthening the ethnic network 
 of immigrants.\\n\\nContact: Yann Bramoullé : yann.bramoulle[at]univ-amu.f
 rTimothée Demont : timothee.demont[at]univ-amu.frHabiba Djebbari : habiba
 .djebbari[at]univ-amu.fr\n\nPlus d'informations: https://www.amse-aixmarsei
 lle.fr/fr/evenements/alberto-bisin
LOCATION:MEGA - Salle Carine Nourry\, 424\, Chemin du Viaduc\, 13080 Aix-en
 -Provence
URL;VALUE=URI:https://www.amse-aixmarseille.fr/fr/evenements/alberto-bisin
CONTACT:Yann Bramoullé : yann.bramoulle[at]univ-amu.frTimothée Demont :&n
 bsp\;timothee.demont[at]univ-amu.frHabiba Djebbari : habiba.djebbari[at]uni
 v-amu.fr
TRANSP:OPAQUE
END:VEVENT
END:VCALENDAR
