BEGIN:VCALENDAR
VERSION:2.0
PRODID:-//AMSE//Event Calendar//FR
CALSCALE:GREGORIAN
METHOD:PUBLISH
BEGIN:VEVENT
UID:event-10257@www.amse-aixmarseille.fr
DTSTAMP:20260422T000452Z
CREATED:20260422T000452Z
LAST-MODIFIED:20260422T000452Z
STATUS:CONFIRMED
SEQUENCE:0
SUMMARY:Development and political economy seminar - Elisa Macchi
DTSTART:20231215T100000Z
DTEND:20231215T111500Z
DESCRIPTION:This paper examines informal redistribution in the form of work
  in small and medium enterprises in Kampala\, Uganda and its drivers. Using
  a field experi-ment\, we show that employers and workers systematically ch
 oose giving/receiving work over cash transfers. Decisions imply a large wil
 lingness to pay for work on both sides of the labor market. Work redistribu
 tion choices are unaffected by the economic and training value of the task\
 , and employers pay for zero marginal product work. Removing stakes in the 
 game also does not affect decisions\, ruling out signaling and relational p
 ersonal benefits as drivers. Employers and workers motivate work redistribu
 tion mostly with fairness considerations and\, secondly\, with the psychoso
 cial value of work for workers. Results appear externally valid\, as giving
  via work predicts increased hiring in the firm\, but it does not lead to h
 igher revenues\, sales\, or profits\, confirming that work redistribution i
 s unlikely to be productive.\\n\\nContact: Timothée Demont : timothee.dem
 ont[at]univ-amu.frHabiba Djebbari : habiba.djebbari[at]univ-amu.fr\n\nPlus 
 d'informations: https://www.amse-aixmarseille.fr/fr/evenements/elisa-macchi
LOCATION:MEGA - Salle Carine Nourry\, 424\, Chemin du Viaduc\, 13080 Aix-en
 -Provence
URL;VALUE=URI:https://www.amse-aixmarseille.fr/fr/evenements/elisa-macchi
CONTACT:Timothée Demont :&nbsp\;timothee.demont[at]univ-amu.frHabiba Djebb
 ari : habiba.djebbari[at]univ-amu.fr
TRANSP:OPAQUE
END:VEVENT
END:VCALENDAR
