BEGIN:VCALENDAR
VERSION:2.0
PRODID:-//AMSE//Event Calendar//FR
CALSCALE:GREGORIAN
METHOD:PUBLISH
BEGIN:VEVENT
UID:event-10299@www.amse-aixmarseille.fr
DTSTAMP:20260422T163408Z
CREATED:20260422T163408Z
LAST-MODIFIED:20260422T163408Z
STATUS:CONFIRMED
SEQUENCE:0
SUMMARY:Eco-lunch - Nicolas Gravel
DTSTART:20231005T103000Z
DTEND:20231005T113000Z
DESCRIPTION:\\n\\nContact: Nathalie Ferrière : nathalie.ferriere[at]scien
 cespo-aix.frFederico Trionfetti : federico.trionfetti[at]univ-amu.fr\n\nPl
 us d'informations: https://www.amse-aixmarseille.fr/fr/evenements/nicolas-g
 ravel-3
LOCATION:MEGA - Salle Carine Nourry\, 424\, Chemin du Viaduc\, 13080 Aix-en
 -Provence
URL;VALUE=URI:https://www.amse-aixmarseille.fr/fr/evenements/nicolas-gravel-3
CONTACT:Nathalie Ferrière :&nbsp\;nathalie.ferriere[at]sciencespo-aix.frFe
 derico Trionfetti :&nbsp\;federico.trionfetti[at]univ-amu.fr
TRANSP:OPAQUE
END:VEVENT
END:VCALENDAR
